BEGIN:VCALENDAR
VERSION:2.0
PRODID:-// - ECPv6.15.20//NONSGML v1.0//EN
CALSCALE:GREGORIAN
METHOD:PUBLISH
X-ORIGINAL-URL:https://vcrchurch.org
X-WR-CALDESC:Events for 
REFRESH-INTERVAL;VALUE=DURATION:PT1H
X-Robots-Tag:noindex
X-PUBLISHED-TTL:PT1H
BEGIN:VTIMEZONE
TZID:America/Chicago
BEGIN:DAYLIGHT
TZOFFSETFROM:-0600
TZOFFSETTO:-0500
TZNAME:CDT
DTSTART:20240310T080000
END:DAYLIGHT
BEGIN:STANDARD
TZOFFSETFROM:-0500
TZOFFSETTO:-0600
TZNAME:CST
DTSTART:20241103T070000
END:STANDARD
BEGIN:DAYLIGHT
TZOFFSETFROM:-0600
TZOFFSETTO:-0500
TZNAME:CDT
DTSTART:20250309T080000
END:DAYLIGHT
BEGIN:STANDARD
TZOFFSETFROM:-0500
TZOFFSETTO:-0600
TZNAME:CST
DTSTART:20251102T070000
END:STANDARD
BEGIN:DAYLIGHT
TZOFFSETFROM:-0600
TZOFFSETTO:-0500
TZNAME:CDT
DTSTART:20260308T080000
END:DAYLIGHT
BEGIN:STANDARD
TZOFFSETFROM:-0500
TZOFFSETTO:-0600
TZNAME:CST
DTSTART:20261101T070000
END:STANDARD
END:VTIMEZONE
BEGIN:VEVENT
DTSTART;TZID=America/Chicago:20250406T170000
DTEND;TZID=America/Chicago:20250406T203000
DTSTAMP:20260424T070812
CREATED:20250320T134025Z
LAST-MODIFIED:20250320T134025Z
UID:1361-1743958800-1743971400@vcrchurch.org
SUMMARY:More of Him Service
DESCRIPTION:A time to throw away the clocks and bask in His presence.
URL:https://vcrchurch.org/event/more-of-him-service-12/
LOCATION:Victory Celebration Revival Church\, 1000 Colloredo blvd.\, Shelbyville\, TN\, 37160\, United States
END:VEVENT
BEGIN:VEVENT
DTSTART;TZID=America/Chicago:20250411T180000
DTEND;TZID=America/Chicago:20250411T203000
DTSTAMP:20260424T070812
CREATED:20250401T152207Z
LAST-MODIFIED:20250401T152207Z
UID:1364-1744394400-1744403400@vcrchurch.org
SUMMARY:Youth Group
DESCRIPTION:Ages 12 and up are welcome!
URL:https://vcrchurch.org/event/youth-group-71/
LOCATION:Victory Celebration Revival Church\, 1000 Colloredo blvd.\, Shelbyville\, TN\, 37160\, United States
END:VEVENT
BEGIN:VEVENT
DTSTART;TZID=America/Chicago:20250416T190000
DTEND;TZID=America/Chicago:20250416T203000
DTSTAMP:20260424T070812
CREATED:20250403T155228Z
LAST-MODIFIED:20250403T155228Z
UID:1366-1744830000-1744835400@vcrchurch.org
SUMMARY:John Kilpatrick - Vexed Series
DESCRIPTION:
URL:https://vcrchurch.org/event/john-kilpatrick-vexed-series/
LOCATION:Victory Celebration Revival Church\, 1000 Colloredo blvd.\, Shelbyville\, TN\, 37160\, United States
END:VEVENT
BEGIN:VEVENT
DTSTART;TZID=America/Chicago:20250425T180000
DTEND;TZID=America/Chicago:20250425T203000
DTSTAMP:20260424T070812
CREATED:20250303T162623Z
LAST-MODIFIED:20250303T162623Z
UID:1353-1745604000-1745613000@vcrchurch.org
SUMMARY:Men's Group
DESCRIPTION:
URL:https://vcrchurch.org/event/mens-group-2/
LOCATION:Victory Celebration Revival Church\, 1000 Colloredo blvd.\, Shelbyville\, TN\, 37160\, United States
END:VEVENT
BEGIN:VEVENT
DTSTART;TZID=America/Chicago:20250427T170000
DTEND;TZID=America/Chicago:20250427T200000
DTSTAMP:20260424T070812
CREATED:20250415T164133Z
LAST-MODIFIED:20250415T164216Z
UID:1373-1745773200-1745784000@vcrchurch.org
SUMMARY:Miracle Healing Service
DESCRIPTION:Come expecting to receive the healing power of God!  Jesus still heals today!
URL:https://vcrchurch.org/event/miracle-healing-service/
LOCATION:Victory Celebration Revival Church\, 1000 Colloredo blvd.\, Shelbyville\, TN\, 37160\, United States
END:VEVENT
END:VCALENDAR