BEGIN:VCALENDAR
VERSION:2.0
PRODID:-// - ECPv6.15.20//NONSGML v1.0//EN
CALSCALE:GREGORIAN
METHOD:PUBLISH
X-ORIGINAL-URL:https://vcrchurch.org
X-WR-CALDESC:Events for 
REFRESH-INTERVAL;VALUE=DURATION:PT1H
X-Robots-Tag:noindex
X-PUBLISHED-TTL:PT1H
BEGIN:VTIMEZONE
TZID:America/Chicago
BEGIN:DAYLIGHT
TZOFFSETFROM:-0600
TZOFFSETTO:-0500
TZNAME:CDT
DTSTART:20230312T080000
END:DAYLIGHT
BEGIN:STANDARD
TZOFFSETFROM:-0500
TZOFFSETTO:-0600
TZNAME:CST
DTSTART:20231105T070000
END:STANDARD
BEGIN:DAYLIGHT
TZOFFSETFROM:-0600
TZOFFSETTO:-0500
TZNAME:CDT
DTSTART:20240310T080000
END:DAYLIGHT
BEGIN:STANDARD
TZOFFSETFROM:-0500
TZOFFSETTO:-0600
TZNAME:CST
DTSTART:20241103T070000
END:STANDARD
BEGIN:DAYLIGHT
TZOFFSETFROM:-0600
TZOFFSETTO:-0500
TZNAME:CDT
DTSTART:20250309T080000
END:DAYLIGHT
BEGIN:STANDARD
TZOFFSETFROM:-0500
TZOFFSETTO:-0600
TZNAME:CST
DTSTART:20251102T070000
END:STANDARD
END:VTIMEZONE
BEGIN:VEVENT
DTSTART;TZID=America/Chicago:20241020T100000
DTEND;TZID=America/Chicago:20241020T123000
DTSTAMP:20260424T162254
CREATED:20241015T042337Z
LAST-MODIFIED:20241015T042337Z
UID:1271-1729418400-1729427400@vcrchurch.org
SUMMARY:Revs. Jim and Stephanie Montgomery
DESCRIPTION:Join us!
URL:https://vcrchurch.org/event/revs-jim-and-stephanie-montgomery/
LOCATION:Victory Celebration Revival Church\, 1000 Colloredo blvd.\, Shelbyville\, TN\, 37160\, United States
END:VEVENT
BEGIN:VEVENT
DTSTART;TZID=America/Chicago:20241025T180000
DTEND;TZID=America/Chicago:20241025T210000
DTSTAMP:20260424T162254
CREATED:20241015T042207Z
LAST-MODIFIED:20241015T042207Z
UID:1269-1729879200-1729890000@vcrchurch.org
SUMMARY:Healing Summit
DESCRIPTION:Our church will be hosting Tim Sheets live Healing Summit!
URL:https://vcrchurch.org/event/healing-summit-2/
LOCATION:Victory Celebration Revival Church\, 1000 Colloredo blvd.\, Shelbyville\, TN\, 37160\, United States
END:VEVENT
END:VCALENDAR