BEGIN:VCALENDAR
VERSION:2.0
PRODID:-// - ECPv6.15.20//NONSGML v1.0//EN
CALSCALE:GREGORIAN
METHOD:PUBLISH
X-ORIGINAL-URL:https://vcrchurch.org
X-WR-CALDESC:Events for 
REFRESH-INTERVAL;VALUE=DURATION:PT1H
X-Robots-Tag:noindex
X-PUBLISHED-TTL:PT1H
BEGIN:VTIMEZONE
TZID:UTC
BEGIN:STANDARD
TZOFFSETFROM:+0000
TZOFFSETTO:+0000
TZNAME:UTC
DTSTART:20220101T000000
END:STANDARD
END:VTIMEZONE
BEGIN:VEVENT
DTSTART;TZID=UTC:20230602T063000
DTEND;TZID=UTC:20230602T203000
DTSTAMP:20260425T182018
CREATED:20230531T150723Z
LAST-MODIFIED:20230531T150723Z
UID:938-1685687400-1685737800@vcrchurch.org
SUMMARY:Youth Group
DESCRIPTION:Ages 12 and up are welcome!
URL:https://vcrchurch.org/event/youth-group-30/
LOCATION:Victory Celebration Revival Church\, 1000 Colloredo blvd.\, Shelbyville\, TN\, 37160\, United States
END:VEVENT
BEGIN:VEVENT
DTSTART;TZID=UTC:20230607T190000
DTEND;TZID=UTC:20230607T203000
DTSTAMP:20260425T182018
CREATED:20230531T150818Z
LAST-MODIFIED:20230531T150818Z
UID:940-1686164400-1686169800@vcrchurch.org
SUMMARY:Youth Group
DESCRIPTION:Ages 12 and up are welcome!
URL:https://vcrchurch.org/event/youth-group-32/
LOCATION:Victory Celebration Revival Church\, 1000 Colloredo blvd.\, Shelbyville\, TN\, 37160\, United States
END:VEVENT
BEGIN:VEVENT
DTSTART;TZID=UTC:20230614T190000
DTEND;TZID=UTC:20230614T203000
DTSTAMP:20260425T182018
CREATED:20230531T150858Z
LAST-MODIFIED:20230531T150858Z
UID:942-1686769200-1686774600@vcrchurch.org
SUMMARY:Youth Group
DESCRIPTION:Ages 12 and up are welcome!
URL:https://vcrchurch.org/event/youth-group-33/
LOCATION:Victory Celebration Revival Church\, 1000 Colloredo blvd.\, Shelbyville\, TN\, 37160\, United States
END:VEVENT
BEGIN:VEVENT
DTSTART;TZID=UTC:20230621T190000
DTEND;TZID=UTC:20230621T203000
DTSTAMP:20260425T182018
CREATED:20230531T150932Z
LAST-MODIFIED:20230531T150932Z
UID:944-1687374000-1687379400@vcrchurch.org
SUMMARY:Youth Group
DESCRIPTION:Ages 12 and up are welcome!
URL:https://vcrchurch.org/event/youth-group-34/
LOCATION:Victory Celebration Revival Church\, 1000 Colloredo blvd.\, Shelbyville\, TN\, 37160\, United States
END:VEVENT
BEGIN:VEVENT
DTSTART;TZID=UTC:20230624T083000
DTEND;TZID=UTC:20230624T100000
DTSTAMP:20260425T182018
CREATED:20230531T151658Z
LAST-MODIFIED:20230531T151658Z
UID:948-1687595400-1687600800@vcrchurch.org
SUMMARY:Men's Fellowship Breakfast
DESCRIPTION:The church will buy breakfast for all who attend this event. Please call the church or message us on social media and let us know the biscuit of your choosing.  Boys 12 and up are welcome to join the breakfast as well.
URL:https://vcrchurch.org/event/mens-fellowship-breakfast-2/
LOCATION:Victory Celebration Revival Church\, 1000 Colloredo blvd.\, Shelbyville\, TN\, 37160\, United States
END:VEVENT
BEGIN:VEVENT
DTSTART;TZID=UTC:20230630T190000
DTEND;TZID=UTC:20230630T203000
DTSTAMP:20260425T182018
CREATED:20230531T151010Z
LAST-MODIFIED:20230531T151010Z
UID:946-1688151600-1688157000@vcrchurch.org
SUMMARY:Youth Group
DESCRIPTION:Ages 12 and up are welcome!
URL:https://vcrchurch.org/event/youth-group-35/
LOCATION:Victory Celebration Revival Church\, 1000 Colloredo blvd.\, Shelbyville\, TN\, 37160\, United States
END:VEVENT
END:VCALENDAR