BEGIN:VCALENDAR
VERSION:2.0
PRODID:-// - ECPv6.15.20//NONSGML v1.0//EN
CALSCALE:GREGORIAN
METHOD:PUBLISH
X-ORIGINAL-URL:https://vcrchurch.org
X-WR-CALDESC:Events for 
REFRESH-INTERVAL;VALUE=DURATION:PT1H
X-Robots-Tag:noindex
X-PUBLISHED-TTL:PT1H
BEGIN:VTIMEZONE
TZID:UTC
BEGIN:STANDARD
TZOFFSETFROM:+0000
TZOFFSETTO:+0000
TZNAME:UTC
DTSTART:20210101T000000
END:STANDARD
END:VTIMEZONE
BEGIN:VEVENT
DTSTART;TZID=UTC:20230412T190000
DTEND;TZID=UTC:20230412T203000
DTSTAMP:20260425T104307
CREATED:20230322T152213Z
LAST-MODIFIED:20230322T152213Z
UID:918-1681326000-1681331400@vcrchurch.org
SUMMARY:Youth Group
DESCRIPTION:Ages 12 and up are welcome!
URL:https://vcrchurch.org/event/youth-group-25/
LOCATION:Victory Celebration Revival Church\, 1000 Colloredo blvd.\, Shelbyville\, TN\, 37160\, United States
END:VEVENT
BEGIN:VEVENT
DTSTART;TZID=UTC:20230406T183000
DTEND;TZID=UTC:20230406T203000
DTSTAMP:20260425T104307
CREATED:20230322T151815Z
LAST-MODIFIED:20230322T152924Z
UID:911-1680805800-1680813000@vcrchurch.org
SUMMARY:Holy Week Service
DESCRIPTION:In preparation for Resurrection Sunday\, we are putting our attention on the death\, burial and resurrection of Jesus.  We will be having three special Holy Week services. Each night service will direct our thoughts on the Passion of Christ.\nThe first Holy Week service is Tuesday\, April 4th at 6:30pm.\nWednesday\, April 5th at 6:30pm\nThursday night at 6:30pm.  Thursday nights service will end with Holy Communion.
URL:https://vcrchurch.org/event/holy-week-service-3/
LOCATION:Victory Celebration Revival Church\, 1000 Colloredo blvd.\, Shelbyville\, TN\, 37160\, United States
END:VEVENT
BEGIN:VEVENT
DTSTART;TZID=UTC:20230405T183000
DTEND;TZID=UTC:20230405T203000
DTSTAMP:20260425T104307
CREATED:20230322T152135Z
LAST-MODIFIED:20230322T152135Z
UID:916-1680719400-1680726600@vcrchurch.org
SUMMARY:Youth Group
DESCRIPTION:Ages 12 and up are welcome!
URL:https://vcrchurch.org/event/youth-group-24/
LOCATION:Victory Celebration Revival Church\, 1000 Colloredo blvd.\, Shelbyville\, TN\, 37160\, United States
END:VEVENT
BEGIN:VEVENT
DTSTART;TZID=UTC:20230405T183000
DTEND;TZID=UTC:20230405T203000
DTSTAMP:20260425T104307
CREATED:20230322T151755Z
LAST-MODIFIED:20230322T151917Z
UID:909-1680719400-1680726600@vcrchurch.org
SUMMARY:Holy Week Service
DESCRIPTION:In preparation for Resurrection Sunday\, we are putting our attention on the death\, burial and resurrection of Jesus.  We will be having three special Holy Week services. Each night service will direct our thoughts on the Passion of Christ.\nThe first Holy Week service is Tuesday\, April 4th at 6:30pm.\nWednesday\, April 5th at 6:30pm\nThursday night at 6:30pm.  Thursday nights service will end with Holy Communion. \nThe Youth Group will have their own service on Wednesday\, April 5th at 6:30
URL:https://vcrchurch.org/event/holy-week-service-2/
LOCATION:Victory Celebration Revival Church\, 1000 Colloredo blvd.\, Shelbyville\, TN\, 37160\, United States
END:VEVENT
BEGIN:VEVENT
DTSTART;TZID=UTC:20230404T183000
DTEND;TZID=UTC:20230404T203000
DTSTAMP:20260425T104307
CREATED:20230322T151710Z
LAST-MODIFIED:20230404T024640Z
UID:907-1680633000-1680640200@vcrchurch.org
SUMMARY:Holy Week Service
DESCRIPTION:In preparation for Resurrection Sunday\, we are putting our attention on the death\, burial and resurrection of Jesus.  We will be having three special Holy Week services. Each night service will direct our thoughts on the Passion of Christ.\nThe first Holy Week service is Tuesday\, April 4th at 6:30pm.\nWednesday\, April 5th at 6:30pm\nThursday night at 6:30pm.  Thursday nights service will end with Holy Communion.
URL:https://vcrchurch.org/event/holy-week-service/
LOCATION:Victory Celebration Revival Church\, 1000 Colloredo blvd.\, Shelbyville\, TN\, 37160\, United States
END:VEVENT
BEGIN:VEVENT
DTSTART;TZID=UTC:20230402T170000
DTEND;TZID=UTC:20230402T200000
DTSTAMP:20260425T104307
CREATED:20230322T152028Z
LAST-MODIFIED:20230322T152028Z
UID:914-1680454800-1680465600@vcrchurch.org
SUMMARY:More of Him Service
DESCRIPTION:A time to throw away the clocks and bask in His presence.
URL:https://vcrchurch.org/event/more-of-him-service-6/
LOCATION:Victory Celebration Revival Church\, 1000 Colloredo blvd.\, Shelbyville\, TN\, 37160\, United States
END:VEVENT
BEGIN:VEVENT
DTSTART;TZID=UTC:20230401T083000
DTEND;TZID=UTC:20230401T103000
DTSTAMP:20260425T104307
CREATED:20230322T151347Z
LAST-MODIFIED:20230322T151347Z
UID:905-1680337800-1680345000@vcrchurch.org
SUMMARY:Men's Passion Week Breakfast
DESCRIPTION:If you are a man or a teenage boy who needs some fellowship with likeminded believers\, you are invited!\nBring your Bible and bring a friend!  Please call us or send us a message and let us know what kind of biscuit you would like for breakfast.  We are looking forward to seeing you!
URL:https://vcrchurch.org/event/mens-passion-week-breakfast/
LOCATION:Victory Celebration Revival Church\, 1000 Colloredo blvd.\, Shelbyville\, TN\, 37160\, United States
END:VEVENT
BEGIN:VEVENT
DTSTART;TZID=UTC:20230317T180000
DTEND;TZID=UTC:20230317T210000
DTSTAMP:20260425T104307
CREATED:20230206T195351Z
LAST-MODIFIED:20230206T195351Z
UID:873-1679076000-1679086800@vcrchurch.org
SUMMARY:Daddy's Girls Club
DESCRIPTION:At Daddy’s Girls we have games\, food\, fellowship and activities! We discuss God’s Word and topics to help us grow stronger as God’s girls.  All females are welcome!
URL:https://vcrchurch.org/event/daddys-girls-club/
LOCATION:Victory Celebration Revival Church\, 1000 Colloredo blvd.\, Shelbyville\, TN\, 37160\, United States
END:VEVENT
BEGIN:VEVENT
DTSTART;TZID=UTC:20230305T170000
DTEND;TZID=UTC:20230305T200000
DTSTAMP:20260425T104307
CREATED:20230224T155856Z
LAST-MODIFIED:20230224T155856Z
UID:890-1678035600-1678046400@vcrchurch.org
SUMMARY:More of Him Service
DESCRIPTION:A time to throw away the clocks and let Holy Spirit take over.
URL:https://vcrchurch.org/event/more-of-him-service-5/
LOCATION:Victory Celebration Revival Church\, 1000 Colloredo blvd.\, Shelbyville\, TN\, 37160\, United States
END:VEVENT
BEGIN:VEVENT
DTSTART;TZID=UTC:20230304T083000
DTEND;TZID=UTC:20230304T103000
DTSTAMP:20260425T104307
CREATED:20230214T191313Z
LAST-MODIFIED:20230223T162126Z
UID:886-1677918600-1677925800@vcrchurch.org
SUMMARY:Men's Prayer Breakfast
DESCRIPTION:A place where men come together to pray\, learn and love on the Lord.  If you would like to attend this event\, please send us a message on facebook or any other of our social media platforms.  Breakfast will be provided\, but we do need to know how many will be attending.  Thank you!
URL:https://vcrchurch.org/event/mens-prayer-breakfast/
LOCATION:Victory Celebration Revival Church\, 1000 Colloredo blvd.\, Shelbyville\, TN\, 37160\, United States
END:VEVENT
BEGIN:VEVENT
DTSTART;TZID=UTC:20230224T183000
DTEND;TZID=UTC:20230224T203000
DTSTAMP:20260425T104307
CREATED:20230127T162301Z
LAST-MODIFIED:20230127T162301Z
UID:870-1677263400-1677270600@vcrchurch.org
SUMMARY:Youth Group
DESCRIPTION:Ages 12 and up are welcome!
URL:https://vcrchurch.org/event/youth-group-23/
LOCATION:Victory Celebration Revival Church\, 1000 Colloredo blvd.\, Shelbyville\, TN\, 37160\, United States
END:VEVENT
BEGIN:VEVENT
DTSTART;TZID=UTC:20230215T190000
DTEND;TZID=UTC:20230215T203000
DTSTAMP:20260425T104307
CREATED:20230127T162211Z
LAST-MODIFIED:20230127T162211Z
UID:868-1676487600-1676493000@vcrchurch.org
SUMMARY:Youth Group
DESCRIPTION:Ages 12 and up are welcome!
URL:https://vcrchurch.org/event/youth-group-22/
LOCATION:Victory Celebration Revival Church\, 1000 Colloredo blvd.\, Shelbyville\, TN\, 37160\, United States
END:VEVENT
BEGIN:VEVENT
DTSTART;TZID=UTC:20230208T190000
DTEND;TZID=UTC:20230208T203000
DTSTAMP:20260425T104307
CREATED:20230127T162138Z
LAST-MODIFIED:20230127T162138Z
UID:866-1675882800-1675888200@vcrchurch.org
SUMMARY:Youth Group
DESCRIPTION:Ages 12 and up are welcome!
URL:https://vcrchurch.org/event/youth-group-21/
LOCATION:Victory Celebration Revival Church\, 1000 Colloredo blvd.\, Shelbyville\, TN\, 37160\, United States
END:VEVENT
BEGIN:VEVENT
DTSTART;TZID=UTC:20230205T170000
DTEND;TZID=UTC:20230205T203000
DTSTAMP:20260425T104307
CREATED:20230116T185646Z
LAST-MODIFIED:20230116T185646Z
UID:852-1675616400-1675629000@vcrchurch.org
SUMMARY:More of Him Service
DESCRIPTION:A time to throw away the clocks and do what is on His agenda.
URL:https://vcrchurch.org/event/more-of-him-service-4/
LOCATION:Victory Celebration Revival Church\, 1000 Colloredo blvd.\, Shelbyville\, TN\, 37160\, United States
END:VEVENT
BEGIN:VEVENT
DTSTART;TZID=UTC:20230201T190000
DTEND;TZID=UTC:20230201T203000
DTSTAMP:20260425T104307
CREATED:20230127T162103Z
LAST-MODIFIED:20230127T162103Z
UID:864-1675278000-1675283400@vcrchurch.org
SUMMARY:Youth Group
DESCRIPTION:Ages 12 and up are welcome!
URL:https://vcrchurch.org/event/youth-group-20/
LOCATION:Victory Celebration Revival Church\, 1000 Colloredo blvd.\, Shelbyville\, TN\, 37160\, United States
END:VEVENT
BEGIN:VEVENT
DTSTART;TZID=UTC:20230127T183000
DTEND;TZID=UTC:20230127T203000
DTSTAMP:20260425T104307
CREATED:20230116T185532Z
LAST-MODIFIED:20230116T185532Z
UID:850-1674844200-1674851400@vcrchurch.org
SUMMARY:Youth Group
DESCRIPTION:Youth group is for ages 12 and up!  We worship\, study the Bible\, eat and have fun!
URL:https://vcrchurch.org/event/youth-group-19/
LOCATION:Victory Celebration Revival Church\, 1000 Colloredo blvd.\, Shelbyville\, TN\, 37160\, United States
END:VEVENT
BEGIN:VEVENT
DTSTART;TZID=UTC:20221214T190000
DTEND;TZID=UTC:20221214T203000
DTSTAMP:20260425T104307
CREATED:20221130T214556Z
LAST-MODIFIED:20221130T214556Z
UID:809-1671044400-1671049800@vcrchurch.org
SUMMARY:Youth Group
DESCRIPTION:Ages 12 and up are invited to youth group!
URL:https://vcrchurch.org/event/youth-group-18/
LOCATION:Victory Celebration Revival Church\, 1000 Colloredo blvd.\, Shelbyville\, TN\, 37160\, United States
END:VEVENT
BEGIN:VEVENT
DTSTART;TZID=UTC:20221204T170000
DTEND;TZID=UTC:20221204T200000
DTSTAMP:20260425T104307
CREATED:20221130T214441Z
LAST-MODIFIED:20221130T214441Z
UID:807-1670173200-1670184000@vcrchurch.org
SUMMARY:More of Him Service
DESCRIPTION:A time to throw away the clocks and bask in His presence.
URL:https://vcrchurch.org/event/more-of-him-service-3/
LOCATION:Victory Celebration Revival Church\, 1000 Colloredo blvd.\, Shelbyville\, TN\, 37160\, United States
END:VEVENT
BEGIN:VEVENT
DTSTART;TZID=UTC:20220928T190000
DTEND;TZID=UTC:20220928T203000
DTSTAMP:20260425T104307
CREATED:20220825T165545Z
LAST-MODIFIED:20220825T165545Z
UID:799-1664391600-1664397000@vcrchurch.org
SUMMARY:Youth Group
DESCRIPTION:Ages 12 and up are welcome! Bring your Bible.
URL:https://vcrchurch.org/event/youth-group-17/
LOCATION:Victory Celebration Revival Church\, 1000 Colloredo blvd.\, Shelbyville\, TN\, 37160\, United States
END:VEVENT
BEGIN:VEVENT
DTSTART;TZID=UTC:20220918T170000
DTEND;TZID=UTC:20220918T193000
DTSTAMP:20260425T104307
CREATED:20220825T165452Z
LAST-MODIFIED:20220825T165452Z
UID:797-1663520400-1663529400@vcrchurch.org
SUMMARY:Youth Group
DESCRIPTION:Ages 12 and up are welcome! Bring your Bible.
URL:https://vcrchurch.org/event/youth-group-16/
LOCATION:Victory Celebration Revival Church\, 1000 Colloredo blvd.\, Shelbyville\, TN\, 37160\, United States
END:VEVENT
BEGIN:VEVENT
DTSTART;TZID=UTC:20220907T190000
DTEND;TZID=UTC:20220907T203000
DTSTAMP:20260425T104307
CREATED:20220825T165330Z
LAST-MODIFIED:20220825T165330Z
UID:795-1662577200-1662582600@vcrchurch.org
SUMMARY:Youth Group
DESCRIPTION:Ages 12 and up are welcome!  Bring your Bible.
URL:https://vcrchurch.org/event/youth-group-15/
LOCATION:Victory Celebration Revival Church\, 1000 Colloredo blvd.\, Shelbyville\, TN\, 37160\, United States
END:VEVENT
BEGIN:VEVENT
DTSTART;TZID=UTC:20220904T170000
DTEND;TZID=UTC:20220904T170000
DTSTAMP:20260425T104307
CREATED:20220822T153312Z
LAST-MODIFIED:20220822T153312Z
UID:793-1662310800-1662310800@vcrchurch.org
SUMMARY:More of Him Service
DESCRIPTION:A service to put away the clocks and do what is on Holy Spirit’s agenda.
URL:https://vcrchurch.org/event/more-of-him-service-2/
LOCATION:Victory Celebration Revival Church\, 1000 Colloredo blvd.\, Shelbyville\, TN\, 37160\, United States
END:VEVENT
BEGIN:VEVENT
DTSTART;TZID=UTC:20220831T110000
DTEND;TZID=UTC:20220831T113000
DTSTAMP:20260425T104307
CREATED:20220825T170523Z
LAST-MODIFIED:20220825T170559Z
UID:801-1661943600-1661945400@vcrchurch.org
SUMMARY:Live with Pastor Carl
DESCRIPTION:Pastor Carl is always live on Wednesdays at 11am on his Facebook page(Carl Hall).  Come and join Pastor for an encouraging Word from the Lord for you! Click the link below!
URL:https://vcrchurch.org/event/live-with-pastor-carl/
LOCATION:TN
END:VEVENT
BEGIN:VEVENT
DTSTART;TZID=UTC:20220826T183000
DTEND;TZID=UTC:20220826T203000
DTSTAMP:20260425T104307
CREATED:20220712T192217Z
LAST-MODIFIED:20220712T192217Z
UID:780-1661538600-1661545800@vcrchurch.org
SUMMARY:Youth Group
DESCRIPTION:Bring your Bible.
URL:https://vcrchurch.org/event/youth-group-13/
LOCATION:Victory Celebration Revival Church\, 1000 Colloredo blvd.\, Shelbyville\, TN\, 37160\, United States
END:VEVENT
BEGIN:VEVENT
DTSTART;TZID=UTC:20220817T190000
DTEND;TZID=UTC:20220817T203000
DTSTAMP:20260425T104307
CREATED:20220718T192427Z
LAST-MODIFIED:20220718T193243Z
UID:790-1660762800-1660768200@vcrchurch.org
SUMMARY:Youth Group
DESCRIPTION:Bring your Bible.
URL:https://vcrchurch.org/event/youth-group-14/
LOCATION:Victory Celebration Revival Church\, 1000 Colloredo blvd.\, Shelbyville\, TN\, 37160\, United States
END:VEVENT
BEGIN:VEVENT
DTSTART;TZID=UTC:20220810T190000
DTEND;TZID=UTC:20220810T203000
DTSTAMP:20260425T104307
CREATED:20220718T192345Z
LAST-MODIFIED:20220718T192345Z
UID:788-1660158000-1660163400@vcrchurch.org
SUMMARY:Youth group
DESCRIPTION:Bring your Bible
URL:https://vcrchurch.org/event/youth-group-11/
LOCATION:Victory Celebration Revival Church\, 1000 Colloredo blvd.\, Shelbyville\, TN\, 37160\, United States
END:VEVENT
BEGIN:VEVENT
DTSTART;TZID=UTC:20220807T170000
DTEND;TZID=UTC:20220807T203000
DTSTAMP:20260425T104307
CREATED:20220712T192014Z
LAST-MODIFIED:20220712T192014Z
UID:774-1659891600-1659904200@vcrchurch.org
SUMMARY:More of Him Service
DESCRIPTION:
URL:https://vcrchurch.org/event/more-of-him-service/
LOCATION:Victory Celebration Revival Church\, 1000 Colloredo blvd.\, Shelbyville\, TN\, 37160\, United States
END:VEVENT
BEGIN:VEVENT
DTSTART;TZID=UTC:20220805T183000
DTEND;TZID=UTC:20220805T203000
DTSTAMP:20260425T104307
CREATED:20220718T162723Z
LAST-MODIFIED:20220718T162723Z
UID:786-1659724200-1659731400@vcrchurch.org
SUMMARY:Youth Group
DESCRIPTION:Bring your Bible
URL:https://vcrchurch.org/event/youth-group-12/
LOCATION:Victory Celebration Revival Church\, 1000 Colloredo blvd.\, Shelbyville\, TN\, 37160\, United States
END:VEVENT
BEGIN:VEVENT
DTSTART;TZID=UTC:20220727T190000
DTEND;TZID=UTC:20220727T203000
DTSTAMP:20260425T104307
CREATED:20220627T153523Z
LAST-MODIFIED:20220627T153523Z
UID:763-1658948400-1658953800@vcrchurch.org
SUMMARY:Youth Group
DESCRIPTION:For ages 12 and up.\nBring your Bible.
URL:https://vcrchurch.org/event/youth-group-10/
LOCATION:Victory Celebration Revival Church\, 1000 Colloredo blvd.\, Shelbyville\, TN\, 37160\, United States
END:VEVENT
BEGIN:VEVENT
DTSTART;TZID=UTC:20220715T183000
DTEND;TZID=UTC:20220715T203000
DTSTAMP:20260425T104307
CREATED:20220627T153414Z
LAST-MODIFIED:20220627T153414Z
UID:761-1657909800-1657917000@vcrchurch.org
SUMMARY:Youth Group
DESCRIPTION:For ages 12 and up.\nBring your Bible.
URL:https://vcrchurch.org/event/youth-group-9/
LOCATION:Victory Celebration Revival Church\, 1000 Colloredo blvd.\, Shelbyville\, TN\, 37160\, United States
END:VEVENT
END:VCALENDAR