BEGIN:VCALENDAR
VERSION:2.0
PRODID:-// - ECPv6.15.20//NONSGML v1.0//EN
CALSCALE:GREGORIAN
METHOD:PUBLISH
X-ORIGINAL-URL:https://vcrchurch.org
X-WR-CALDESC:Events for 
REFRESH-INTERVAL;VALUE=DURATION:PT1H
X-Robots-Tag:noindex
X-PUBLISHED-TTL:PT1H
BEGIN:VTIMEZONE
TZID:America/Chicago
BEGIN:DAYLIGHT
TZOFFSETFROM:-0600
TZOFFSETTO:-0500
TZNAME:CDT
DTSTART:20230312T080000
END:DAYLIGHT
BEGIN:STANDARD
TZOFFSETFROM:-0500
TZOFFSETTO:-0600
TZNAME:CST
DTSTART:20231105T070000
END:STANDARD
BEGIN:DAYLIGHT
TZOFFSETFROM:-0600
TZOFFSETTO:-0500
TZNAME:CDT
DTSTART:20240310T080000
END:DAYLIGHT
BEGIN:STANDARD
TZOFFSETFROM:-0500
TZOFFSETTO:-0600
TZNAME:CST
DTSTART:20241103T070000
END:STANDARD
BEGIN:DAYLIGHT
TZOFFSETFROM:-0600
TZOFFSETTO:-0500
TZNAME:CDT
DTSTART:20250309T080000
END:DAYLIGHT
BEGIN:STANDARD
TZOFFSETFROM:-0500
TZOFFSETTO:-0600
TZNAME:CST
DTSTART:20251102T070000
END:STANDARD
END:VTIMEZONE
BEGIN:VEVENT
DTSTART;TZID=America/Chicago:20241020T100000
DTEND;TZID=America/Chicago:20241020T123000
DTSTAMP:20260423T223540
CREATED:20241015T042337Z
LAST-MODIFIED:20241015T042337Z
UID:1271-1729418400-1729427400@vcrchurch.org
SUMMARY:Revs. Jim and Stephanie Montgomery
DESCRIPTION:Join us!
URL:https://vcrchurch.org/event/revs-jim-and-stephanie-montgomery/
LOCATION:Victory Celebration Revival Church\, 1000 Colloredo blvd.\, Shelbyville\, TN\, 37160\, United States
END:VEVENT
BEGIN:VEVENT
DTSTART;TZID=America/Chicago:20240925T190000
DTEND;TZID=America/Chicago:20240925T203000
DTSTAMP:20260423T223540
CREATED:20240824T174002Z
LAST-MODIFIED:20240824T174002Z
UID:1259-1727290800-1727296200@vcrchurch.org
SUMMARY:Youth Group
DESCRIPTION:Ages 12 and up are welcome!
URL:https://vcrchurch.org/event/youth-group-67/
LOCATION:Victory Celebration Revival Church\, 1000 Colloredo blvd.\, Shelbyville\, TN\, 37160\, United States
END:VEVENT
BEGIN:VEVENT
DTSTART;TZID=America/Chicago:20240920T180000
DTEND;TZID=America/Chicago:20240920T203000
DTSTAMP:20260423T223540
CREATED:20240824T173902Z
LAST-MODIFIED:20240824T173912Z
UID:1256-1726855200-1726864200@vcrchurch.org
SUMMARY:Daddys Girls Club
DESCRIPTION:Why is our club called Daddy’s Girls? – We are Gods girls and He is our Daddy. God is the perfect Father and He loves us more than we can comprehend. \n2 Corinthians 6:18  The Lord almighty says\, “I will be your Father\, and you will be my sons and daughters.” \nWho is invited to Daddy’s Girls?  If you are a female\, you are invited!  It’s very rare that only a certain age group is invited\, but if so we will announce that before each event. \nOur Purpose:  To come into a greater knowledge of the love of our Father God.  To make and develop strong\, Godly friendships.  To encourage one another by applying principles from God’s Word.  To fellowship with people of like\, precious faith. \nWhat to expect when attending a Daddy’s Girls gathering:  Expect to be uplifted by the sharing of scriptures and encouraging life stories.  Food\, fun and fellowship are always at Daddy’s Girls’ meetings.
URL:https://vcrchurch.org/event/daddys-girls-4/
LOCATION:Victory Celebration Revival Church\, 1000 Colloredo blvd.\, Shelbyville\, TN\, 37160\, United States
END:VEVENT
BEGIN:VEVENT
DTSTART;TZID=America/Chicago:20240913T180000
DTEND;TZID=America/Chicago:20240913T200000
DTSTAMP:20260423T223540
CREATED:20240824T173058Z
LAST-MODIFIED:20240824T173058Z
UID:1254-1726250400-1726257600@vcrchurch.org
SUMMARY:Youth Group
DESCRIPTION:Ages 12 and up are welcome!
URL:https://vcrchurch.org/event/youth-group-66/
LOCATION:Victory Celebration Revival Church\, 1000 Colloredo blvd.\, Shelbyville\, TN\, 37160\, United States
END:VEVENT
BEGIN:VEVENT
DTSTART;TZID=America/Chicago:20240911T190000
DTEND;TZID=America/Chicago:20240911T203000
DTSTAMP:20260423T223540
CREATED:20240823T193749Z
LAST-MODIFIED:20240823T193749Z
UID:1252-1726081200-1726086600@vcrchurch.org
SUMMARY:Biblical Citizenship Class
DESCRIPTION:You will learn how the founders relied on their Christian moorings and Biblical worldview to secure the blessings of liberty to ourselves and our posterity. You will also be treated to encouraging historical facts and inspirational true stories that are not taught in our educational institutions today. All in all you will be edified and equipped to operationalize your faith and practice Biblical Citizenship in Modern America!
URL:https://vcrchurch.org/event/biblical-citizenship-class-4/
LOCATION:Victory Celebration Revival Church\, 1000 Colloredo blvd.\, Shelbyville\, TN\, 37160\, United States
END:VEVENT
BEGIN:VEVENT
DTSTART;TZID=America/Chicago:20240904T190000
DTEND;TZID=America/Chicago:20240904T203000
DTSTAMP:20260423T223540
CREATED:20240823T193451Z
LAST-MODIFIED:20240823T193451Z
UID:1249-1725476400-1725481800@vcrchurch.org
SUMMARY:Biblical Citizenship Class
DESCRIPTION:You will learn how the founders relied on their Christian moorings and Biblical worldview to secure the blessings of liberty to ourselves and our posterity. You will also be treated to encouraging historical facts and inspirational true stories that are not taught in our educational institutions today. All in all you will be edified and equipped to operationalize your faith and practice Biblical Citizenship in Modern America!
URL:https://vcrchurch.org/event/biblical-citizenship-class-3/
LOCATION:Victory Celebration Revival Church\, 1000 Colloredo blvd.\, Shelbyville\, TN\, 37160\, United States
END:VEVENT
BEGIN:VEVENT
DTSTART;TZID=America/Chicago:20240830T180000
DTEND;TZID=America/Chicago:20240830T203000
DTSTAMP:20260423T223540
CREATED:20240827T232341Z
LAST-MODIFIED:20240830T233615Z
UID:1262-1725040800-1725049800@vcrchurch.org
SUMMARY:Healing Summit
DESCRIPTION:We will be hosting Tim Sheets Live Healing Summit this Friday night at 6pm. Invite people who need healing in their body and mind. \nGuests include: Apostle Tim\, Dutch Sheets\, Clay Nash\, Greg Hood\, Pat McManus\, Ken Malone and Oasis Worship. \n 
URL:https://vcrchurch.org/event/healing-summit/
LOCATION:Victory Celebration Revival Church\, 1000 Colloredo blvd.\, Shelbyville\, TN\, 37160\, United States
END:VEVENT
BEGIN:VEVENT
DTSTART;TZID=America/Chicago:20240828T190000
DTEND;TZID=America/Chicago:20240828T203000
DTSTAMP:20260423T223540
CREATED:20240730T175211Z
LAST-MODIFIED:20240730T175211Z
UID:1230-1724871600-1724877000@vcrchurch.org
SUMMARY:Youth Group
DESCRIPTION:Ages 12 and up are welcome!
URL:https://vcrchurch.org/event/youth-group-65/
LOCATION:Victory Celebration Revival Church\, 1000 Colloredo blvd.\, Shelbyville\, TN\, 37160\, United States
END:VEVENT
BEGIN:VEVENT
DTSTART;TZID=America/Chicago:20240814T190000
DTEND;TZID=America/Chicago:20240814T203000
DTSTAMP:20260423T223540
CREATED:20240730T175850Z
LAST-MODIFIED:20240730T175850Z
UID:1236-1723662000-1723667400@vcrchurch.org
SUMMARY:Biblical Citizenship Class
DESCRIPTION:You will learn how the founders relied on their Christian moorings and Biblical worldview to secure the blessings of liberty to ourselves and our posterity. You will also be treated to encouraging historical facts and inspirational true stories that are not taught in our educational institutions today. All in all you will be edified and equipped to operationalize your faith and practice Biblical Citizenship in Modern America!
URL:https://vcrchurch.org/event/biblical-citizenship-class-2/
LOCATION:Victory Celebration Revival Church\, 1000 Colloredo blvd.\, Shelbyville\, TN\, 37160\, United States
END:VEVENT
BEGIN:VEVENT
DTSTART;TZID=America/Chicago:20240811T173000
DTEND;TZID=America/Chicago:20240811T200000
DTSTAMP:20260423T223540
CREATED:20240730T175122Z
LAST-MODIFIED:20240730T175122Z
UID:1228-1723397400-1723406400@vcrchurch.org
SUMMARY:Youth Group
DESCRIPTION:Ages 12 and up are welcome!
URL:https://vcrchurch.org/event/youth-group-64/
LOCATION:Victory Celebration Revival Church\, 1000 Colloredo blvd.\, Shelbyville\, TN\, 37160\, United States
END:VEVENT
BEGIN:VEVENT
DTSTART;TZID=America/Chicago:20240807T190000
DTEND;TZID=America/Chicago:20240807T203000
DTSTAMP:20260423T223540
CREATED:20240730T175756Z
LAST-MODIFIED:20240730T175756Z
UID:1234-1723057200-1723062600@vcrchurch.org
SUMMARY:Biblical Citizenship Class
DESCRIPTION:You will learn how the founders relied on their Christian moorings and Biblical worldview to secure the blessings of liberty to ourselves and our posterity. You will also be treated to encouraging historical facts and inspirational true stories that are not taught in our educational institutions today. All in all you will be edified and equipped to operationalize your faith and practice Biblical Citizenship in Modern America!
URL:https://vcrchurch.org/event/biblical-citizenship-class/
LOCATION:Victory Celebration Revival Church\, 1000 Colloredo blvd.\, Shelbyville\, TN\, 37160\, United States
END:VEVENT
BEGIN:VEVENT
DTSTART;TZID=America/Chicago:20240804T170000
DTEND;TZID=America/Chicago:20240804T200000
DTSTAMP:20260423T223540
CREATED:20240730T175344Z
LAST-MODIFIED:20240730T175344Z
UID:1232-1722790800-1722801600@vcrchurch.org
SUMMARY:More of Him Service
DESCRIPTION:A time to throw away the clocks and bask in His presence.
URL:https://vcrchurch.org/event/more-of-him-service-11/
LOCATION:Victory Celebration Revival Church\, 1000 Colloredo blvd.\, Shelbyville\, TN\, 37160\, United States
END:VEVENT
BEGIN:VEVENT
DTSTART;TZID=America/Chicago:20240731T190000
DTEND;TZID=America/Chicago:20240731T203000
DTSTAMP:20260423T223540
CREATED:20240730T175004Z
LAST-MODIFIED:20240730T175004Z
UID:1226-1722452400-1722457800@vcrchurch.org
SUMMARY:Youth Group
DESCRIPTION:Ages 12 and up are welcome!
URL:https://vcrchurch.org/event/youth-group-63/
LOCATION:Victory Celebration Revival Church\, 1000 Colloredo blvd.\, Shelbyville\, TN\, 37160\, United States
END:VEVENT
BEGIN:VEVENT
DTSTART;TZID=America/Chicago:20240712T180000
DTEND;TZID=America/Chicago:20240712T203000
DTSTAMP:20260423T223540
CREATED:20240706T225947Z
LAST-MODIFIED:20240706T225947Z
UID:1223-1720807200-1720816200@vcrchurch.org
SUMMARY:Youth Group
DESCRIPTION:Ages 12 and up are welcome!
URL:https://vcrchurch.org/event/youth-group-62/
LOCATION:Victory Celebration Revival Church\, 1000 Colloredo blvd.\, Shelbyville\, TN\, 37160\, United States
END:VEVENT
BEGIN:VEVENT
DTSTART;TZID=America/Chicago:20240707T170000
DTEND;TZID=America/Chicago:20240707T200000
DTSTAMP:20260423T223540
CREATED:20240706T225751Z
LAST-MODIFIED:20240706T225751Z
UID:1221-1720371600-1720382400@vcrchurch.org
SUMMARY:More of Him Service
DESCRIPTION:A time to throw away the clocks and bask in His presence.
URL:https://vcrchurch.org/event/more-of-him-service-10/
LOCATION:Victory Celebration Revival Church\, 1000 Colloredo blvd.\, Shelbyville\, TN\, 37160\, United States
END:VEVENT
BEGIN:VEVENT
DTSTART;TZID=America/Chicago:20240628T180000
DTEND;TZID=America/Chicago:20240628T200000
DTSTAMP:20260423T223540
CREATED:20240605T145748Z
LAST-MODIFIED:20240605T150151Z
UID:1202-1719597600-1719604800@vcrchurch.org
SUMMARY:Youth Group
DESCRIPTION:Ages 12 and up are welcome!
URL:https://vcrchurch.org/event/youth-group-61/
LOCATION:Victory Celebration Revival Church\, 1000 Colloredo blvd.\, Shelbyville\, TN\, 37160\, United States
END:VEVENT
BEGIN:VEVENT
DTSTART;TZID=America/Chicago:20240619T190000
DTEND;TZID=America/Chicago:20240619T203000
DTSTAMP:20260423T223540
CREATED:20240605T145510Z
LAST-MODIFIED:20240605T145649Z
UID:1200-1718823600-1718829000@vcrchurch.org
SUMMARY:Youth Group
DESCRIPTION:Ages 12 and up are welcome!
URL:https://vcrchurch.org/event/youth-group-60/
LOCATION:Victory Celebration Revival Church\, 1000 Colloredo blvd.\, Shelbyville\, TN\, 37160\, United States
END:VEVENT
BEGIN:VEVENT
DTSTART;TZID=America/Chicago:20240605T190000
DTEND;TZID=America/Chicago:20240605T203000
DTSTAMP:20260423T223540
CREATED:20240605T145417Z
LAST-MODIFIED:20240605T145417Z
UID:1198-1717614000-1717619400@vcrchurch.org
SUMMARY:Youth Group
DESCRIPTION:Ages 12 and up are welcome!
URL:https://vcrchurch.org/event/youth-group-59/
LOCATION:Victory Celebration Revival Church\, 1000 Colloredo blvd.\, Shelbyville\, TN\, 37160\, United States
END:VEVENT
BEGIN:VEVENT
DTSTART;TZID=America/Chicago:20240526T100000
DTEND;TZID=America/Chicago:20240526T123000
DTSTAMP:20260423T223540
CREATED:20240403T190930Z
LAST-MODIFIED:20240403T191023Z
UID:1180-1716717600-1716726600@vcrchurch.org
SUMMARY:Special Guest Ministers Revs. Jim and Stephanie Montgomery
DESCRIPTION:“Revs. Jim and Stephanie have been preaching the Word of God for over 30 years now. Their passion is to see the lost saved\, the sick healed\, and the oppressed delivered and set free. \nThey minister the Word with clarity and simplicity enabling people to receive the fullness of their rich inheritance in Christ Jesus. \nTheir ministry helps people to discover the abundant life Jesus made available the life we were created to live. \nRev. Jim\, along with his wife\, Rev. Stephanie\, are committed to equipping people to fulfill their God-given destiny. This is accomplished by means of Church Seminars in the U.S. and abroad\, Pastors & Leaders Conferences\, and teaching in Bible Schools. \nTogether\, the Montgomery’s have ministered in 19 nations\, and are determined to carry out the mandate of Jesus Christ to “ make disciples of all nations”.
URL:https://vcrchurch.org/event/special-guest-ministers-revs-jim-and-stephanie-montgomery/
LOCATION:Victory Celebration Revival Church\, 1000 Colloredo blvd.\, Shelbyville\, TN\, 37160\, United States
END:VEVENT
BEGIN:VEVENT
DTSTART;TZID=America/Chicago:20240424T190000
DTEND;TZID=America/Chicago:20240424T203000
DTSTAMP:20260423T223540
CREATED:20240401T141050Z
LAST-MODIFIED:20240401T141050Z
UID:1176-1713985200-1713990600@vcrchurch.org
SUMMARY:Youth Group
DESCRIPTION:Ages 12 and up are welcome!
URL:https://vcrchurch.org/event/youth-group-58/
LOCATION:Victory Celebration Revival Church\, 1000 Colloredo blvd.\, Shelbyville\, TN\, 37160\, United States
END:VEVENT
BEGIN:VEVENT
DTSTART;TZID=America/Chicago:20240417T190000
DTEND;TZID=America/Chicago:20240417T203000
DTSTAMP:20260423T223540
CREATED:20240401T141011Z
LAST-MODIFIED:20240401T141011Z
UID:1174-1713380400-1713385800@vcrchurch.org
SUMMARY:Youth Group
DESCRIPTION:Ages 12 and up are welcome!
URL:https://vcrchurch.org/event/youth-group-57/
LOCATION:Victory Celebration Revival Church\, 1000 Colloredo blvd.\, Shelbyville\, TN\, 37160\, United States
END:VEVENT
BEGIN:VEVENT
DTSTART;TZID=America/Chicago:20240412T180000
DTEND;TZID=America/Chicago:20240412T200000
DTSTAMP:20260423T223540
CREATED:20240401T140709Z
LAST-MODIFIED:20240401T140709Z
UID:1168-1712944800-1712952000@vcrchurch.org
SUMMARY:Youth Group
DESCRIPTION:Ages 12 and up are welcome!
URL:https://vcrchurch.org/event/youth-group-55/
LOCATION:Victory Celebration Revival Church\, 1000 Colloredo blvd.\, Shelbyville\, TN\, 37160\, United States
END:VEVENT
BEGIN:VEVENT
DTSTART;TZID=America/Chicago:20240407T080000
DTEND;TZID=America/Chicago:20240407T170000
DTSTAMP:20260423T223540
CREATED:20240401T140842Z
LAST-MODIFIED:20240401T140842Z
UID:1170-1712476800-1712509200@vcrchurch.org
SUMMARY:More of Him Service
DESCRIPTION:A time to throw away the clocks and enjoy His presence.
URL:https://vcrchurch.org/event/more-of-him-service-9/
LOCATION:Victory Celebration Revival Church\, 1000 Colloredo blvd.\, Shelbyville\, TN\, 37160\, United States
END:VEVENT
BEGIN:VEVENT
DTSTART;TZID=America/Chicago:20240403T190000
DTEND;TZID=America/Chicago:20240403T203000
DTSTAMP:20260423T223540
CREATED:20240401T140936Z
LAST-MODIFIED:20240401T140936Z
UID:1172-1712170800-1712176200@vcrchurch.org
SUMMARY:Youth Group
DESCRIPTION:Ages 12 and up are welcome!
URL:https://vcrchurch.org/event/youth-group-56/
LOCATION:Victory Celebration Revival Church\, 1000 Colloredo blvd.\, Shelbyville\, TN\, 37160\, United States
END:VEVENT
BEGIN:VEVENT
DTSTART;TZID=America/Chicago:20240327T190000
DTEND;TZID=America/Chicago:20240327T203000
DTSTAMP:20260423T223540
CREATED:20240225T024656Z
LAST-MODIFIED:20240225T024656Z
UID:1161-1711566000-1711571400@vcrchurch.org
SUMMARY:Youth group
DESCRIPTION:Ages 12 and up are welcome.
URL:https://vcrchurch.org/event/youth-group-54/
LOCATION:Victory Celebration Revival Church\, 1000 Colloredo blvd.\, Shelbyville\, TN\, 37160\, United States
END:VEVENT
BEGIN:VEVENT
DTSTART;TZID=America/Chicago:20240322T180000
DTEND;TZID=America/Chicago:20240322T200000
DTSTAMP:20260423T223540
CREATED:20240225T024447Z
LAST-MODIFIED:20240225T024447Z
UID:1157-1711130400-1711137600@vcrchurch.org
SUMMARY:Daddy’s Girls
DESCRIPTION:A group for girls to fellowship with likeminded believers\, to have fun and to learn more about how much our Daddy God loves us. All ages are welcome. Females only.
URL:https://vcrchurch.org/event/daddys-girls-3/
LOCATION:Victory Celebration Revival Church\, 1000 Colloredo blvd.\, Shelbyville\, TN\, 37160\, United States
END:VEVENT
BEGIN:VEVENT
DTSTART;TZID=America/Chicago:20240320T190000
DTEND;TZID=America/Chicago:20240320T203000
DTSTAMP:20260423T223540
CREATED:20240225T024559Z
LAST-MODIFIED:20240225T024559Z
UID:1159-1710961200-1710966600@vcrchurch.org
SUMMARY:Youth group
DESCRIPTION:Ages 12 and up are welcome.
URL:https://vcrchurch.org/event/youth-group-53/
LOCATION:Victory Celebration Revival Church\, 1000 Colloredo blvd.\, Shelbyville\, TN\, 37160\, United States
END:VEVENT
BEGIN:VEVENT
DTSTART;TZID=America/Chicago:20240315T180000
DTEND;TZID=America/Chicago:20240315T200000
DTSTAMP:20260423T223540
CREATED:20240225T024241Z
LAST-MODIFIED:20240225T024241Z
UID:1155-1710525600-1710532800@vcrchurch.org
SUMMARY:Youth group
DESCRIPTION:Ages 12 and up are welcome.
URL:https://vcrchurch.org/event/youth-group-52/
LOCATION:Victory Celebration Revival Church\, 1000 Colloredo blvd.\, Shelbyville\, TN\, 37160\, United States
END:VEVENT
BEGIN:VEVENT
DTSTART;TZID=America/Chicago:20240308T180000
DTEND;TZID=America/Chicago:20240308T200000
DTSTAMP:20260423T223540
CREATED:20240225T024153Z
LAST-MODIFIED:20240225T173358Z
UID:1153-1709920800-1709928000@vcrchurch.org
SUMMARY:Raising the Standard - Men’s Group
DESCRIPTION:This is a group for men and boys to come together and grow in the things of God.  Ages 13 -adult are welcome.
URL:https://vcrchurch.org/event/raising-the-standard/
LOCATION:Victory Celebration Revival Church\, 1000 Colloredo blvd.\, Shelbyville\, TN\, 37160\, United States
END:VEVENT
BEGIN:VEVENT
DTSTART;TZID=America/Chicago:20240306T190000
DTEND;TZID=America/Chicago:20240306T203000
DTSTAMP:20260423T223540
CREATED:20240225T024010Z
LAST-MODIFIED:20240225T024010Z
UID:1151-1709751600-1709757000@vcrchurch.org
SUMMARY:Youth group
DESCRIPTION:Ages 12 and up are welcome.
URL:https://vcrchurch.org/event/youth-group-51/
LOCATION:Victory Celebration Revival Church\, 1000 Colloredo blvd.\, Shelbyville\, TN\, 37160\, United States
END:VEVENT
END:VCALENDAR