BEGIN:VCALENDAR
VERSION:2.0
PRODID:-// - ECPv6.15.20//NONSGML v1.0//EN
CALSCALE:GREGORIAN
METHOD:PUBLISH
X-ORIGINAL-URL:https://vcrchurch.org
X-WR-CALDESC:Events for 
REFRESH-INTERVAL;VALUE=DURATION:PT1H
X-Robots-Tag:noindex
X-PUBLISHED-TTL:PT1H
BEGIN:VTIMEZONE
TZID:UTC
BEGIN:STANDARD
TZOFFSETFROM:+0000
TZOFFSETTO:+0000
TZNAME:UTC
DTSTART:20210101T000000
END:STANDARD
END:VTIMEZONE
BEGIN:VEVENT
DTSTART;TZID=UTC:20220330T190000
DTEND;TZID=UTC:20220330T203000
DTSTAMP:20260425T130516
CREATED:20220311T161147Z
LAST-MODIFIED:20220311T162947Z
UID:614-1648666800-1648672200@vcrchurch.org
SUMMARY:Guest Minister Sandra Bell
DESCRIPTION:Missionary to China\, Sandra Bell and her husband Douglas will be joining us once again! \nSandra flows in gifts of healing words of knowledge.  Come ready for a touch from God!
URL:https://vcrchurch.org/event/guest-minister-sandra-bell/
LOCATION:Victory Celebration Revival Church\, 1000 Colloredo blvd.\, Shelbyville\, TN\, 37160\, United States
END:VEVENT
END:VCALENDAR