BEGIN:VCALENDAR
VERSION:2.0
PRODID:-// - ECPv6.15.20//NONSGML v1.0//EN
CALSCALE:GREGORIAN
METHOD:PUBLISH
X-ORIGINAL-URL:https://vcrchurch.org
X-WR-CALDESC:Events for 
REFRESH-INTERVAL;VALUE=DURATION:PT1H
X-Robots-Tag:noindex
X-PUBLISHED-TTL:PT1H
BEGIN:VTIMEZONE
TZID:America/Chicago
BEGIN:DAYLIGHT
TZOFFSETFROM:-0600
TZOFFSETTO:-0500
TZNAME:CDT
DTSTART:20250309T080000
END:DAYLIGHT
BEGIN:STANDARD
TZOFFSETFROM:-0500
TZOFFSETTO:-0600
TZNAME:CST
DTSTART:20251102T070000
END:STANDARD
BEGIN:DAYLIGHT
TZOFFSETFROM:-0600
TZOFFSETTO:-0500
TZNAME:CDT
DTSTART:20260308T080000
END:DAYLIGHT
BEGIN:STANDARD
TZOFFSETFROM:-0500
TZOFFSETTO:-0600
TZNAME:CST
DTSTART:20261101T070000
END:STANDARD
BEGIN:DAYLIGHT
TZOFFSETFROM:-0600
TZOFFSETTO:-0500
TZNAME:CDT
DTSTART:20270314T080000
END:DAYLIGHT
BEGIN:STANDARD
TZOFFSETFROM:-0500
TZOFFSETTO:-0600
TZNAME:CST
DTSTART:20271107T070000
END:STANDARD
END:VTIMEZONE
BEGIN:VEVENT
DTSTART;TZID=America/Chicago:20260405T100000
DTEND;TZID=America/Chicago:20260405T123000
DTSTAMP:20260423T225507
CREATED:20260320T220407Z
LAST-MODIFIED:20260331T193807Z
UID:1501-1775383200-1775392200@vcrchurch.org
SUMMARY:Resurrection Revival Week - Click for service times
DESCRIPTION:Saturday\, March 28th at 9am\nSunday\, March 29th at 10am & 5:30pm \nMonday\, March 30th at 6:30pm \nTuesday\, March 31st at 6:30pm – Jasper Wilson \nWednesday\, April 1st at 6:30pm \nThursday\, April 2nd at 6:30pm – Rev. Don Vinson \nFriday\, April 3rd at 6:30pm – Pastor Bill Macray \nSunday\, April 5th at 10am
URL:https://vcrchurch.org/event/resurrection-revival-week/
LOCATION:Victory Celebration Revival Church\, 1000 Colloredo blvd.\, Shelbyville\, TN\, 37160\, United States
END:VEVENT
BEGIN:VEVENT
DTSTART;TZID=America/Chicago:20260801T093000
DTEND;TZID=America/Chicago:20260801T170000
DTSTAMP:20260423T225507
CREATED:20260328T025159Z
LAST-MODIFIED:20260328T025454Z
UID:1503-1785576600-1785603600@vcrchurch.org
SUMMARY:Dean Braxton - Deep Worship Sessions
DESCRIPTION:Come and join us as Dean Braxton teaches on Deep Worship.  This teaching is based on his book\, Deep Worship in Heaven.  At each session we will be worshiping with music and learning how to go behind the veil to experience Jesus like never before.  This will be an all day event.  There will be three sessions and lunch will be provided. \nSession 1 – 9:30am \nSession 2 – 1pm \nSession 3 – 3:30pm
URL:https://vcrchurch.org/event/dean-braxton-deep-worship-sessions-3/
LOCATION:Victory Celebration Revival Church\, 1000 Colloredo blvd.\, Shelbyville\, TN\, 37160\, United States
END:VEVENT
BEGIN:VEVENT
DTSTART;TZID=America/Chicago:20260802T100000
DTEND;TZID=America/Chicago:20260802T123000
DTSTAMP:20260423T225507
CREATED:20260328T025322Z
LAST-MODIFIED:20260328T025322Z
UID:1505-1785664800-1785673800@vcrchurch.org
SUMMARY:Dean Braxton: The Miracle Man
DESCRIPTION:
URL:https://vcrchurch.org/event/dean-braxton-the-miracle-man-2/
LOCATION:Victory Celebration Revival Church\, 1000 Colloredo blvd.\, Shelbyville\, TN\, 37160\, United States
END:VEVENT
END:VCALENDAR