BEGIN:VCALENDAR
VERSION:2.0
PRODID:-// - ECPv6.15.20//NONSGML v1.0//EN
CALSCALE:GREGORIAN
METHOD:PUBLISH
X-ORIGINAL-URL:https://vcrchurch.org
X-WR-CALDESC:Events for 
REFRESH-INTERVAL;VALUE=DURATION:PT1H
X-Robots-Tag:noindex
X-PUBLISHED-TTL:PT1H
BEGIN:VTIMEZONE
TZID:UTC
BEGIN:STANDARD
TZOFFSETFROM:+0000
TZOFFSETTO:+0000
TZNAME:UTC
DTSTART:20220101T000000
END:STANDARD
END:VTIMEZONE
BEGIN:VEVENT
DTSTART;TZID=UTC:20231110T180000
DTEND;TZID=UTC:20231110T203000
DTSTAMP:20260425T113128
CREATED:20231018T144852Z
LAST-MODIFIED:20231018T144852Z
UID:1083-1699639200-1699648200@vcrchurch.org
SUMMARY:Raising the Standard Men and Boys Group
DESCRIPTION:Come and experience a strong group of men who share failures and successes and how God brought them through! \nDuring our time together we discuss topics like\, moving forward into Gods change for your life\, being bold and becoming a strong man of God. \nAges 13 and up are invited.
URL:https://vcrchurch.org/event/raising-the-standard-men-and-boys-group-2/
LOCATION:Victory Celebration Revival Church\, 1000 Colloredo blvd.\, Shelbyville\, TN\, 37160\, United States
END:VEVENT
END:VCALENDAR