BEGIN:VCALENDAR
VERSION:2.0
PRODID:-// - ECPv6.15.20//NONSGML v1.0//EN
CALSCALE:GREGORIAN
METHOD:PUBLISH
X-ORIGINAL-URL:https://vcrchurch.org
X-WR-CALDESC:Events for 
REFRESH-INTERVAL;VALUE=DURATION:PT1H
X-Robots-Tag:noindex
X-PUBLISHED-TTL:PT1H
BEGIN:VTIMEZONE
TZID:America/Chicago
BEGIN:DAYLIGHT
TZOFFSETFROM:-0600
TZOFFSETTO:-0500
TZNAME:CDT
DTSTART:20220313T080000
END:DAYLIGHT
BEGIN:STANDARD
TZOFFSETFROM:-0500
TZOFFSETTO:-0600
TZNAME:CST
DTSTART:20221106T070000
END:STANDARD
BEGIN:DAYLIGHT
TZOFFSETFROM:-0600
TZOFFSETTO:-0500
TZNAME:CDT
DTSTART:20230312T080000
END:DAYLIGHT
BEGIN:STANDARD
TZOFFSETFROM:-0500
TZOFFSETTO:-0600
TZNAME:CST
DTSTART:20231105T070000
END:STANDARD
BEGIN:DAYLIGHT
TZOFFSETFROM:-0600
TZOFFSETTO:-0500
TZNAME:CDT
DTSTART:20240310T080000
END:DAYLIGHT
BEGIN:STANDARD
TZOFFSETFROM:-0500
TZOFFSETTO:-0600
TZNAME:CST
DTSTART:20241103T070000
END:STANDARD
END:VTIMEZONE
BEGIN:VEVENT
DTSTART;TZID=America/Chicago:20230818T180000
DTEND;TZID=America/Chicago:20230818T200000
DTSTAMP:20260425T163932
CREATED:20230802T202106Z
LAST-MODIFIED:20230802T202112Z
UID:1010-1692381600-1692388800@vcrchurch.org
SUMMARY:Raising the Standard Men and Boys Group
DESCRIPTION:Ages 13 and up are welcome.  For more information check our “Join a Group” page.
URL:https://vcrchurch.org/event/raising-the-standard-men-and-boys-group/
LOCATION:Victory Celebration Revival Church\, 1000 Colloredo blvd.\, Shelbyville\, TN\, 37160\, United States
ATTACH;FMTTYPE=image/png:https://vcrchurch.org/wp-content/uploads/2023/08/presentation1_01-2.png
END:VEVENT
END:VCALENDAR