BEGIN:VCALENDAR
VERSION:2.0
PRODID:-// - ECPv6.15.20//NONSGML v1.0//EN
CALSCALE:GREGORIAN
METHOD:PUBLISH
X-ORIGINAL-URL:https://vcrchurch.org
X-WR-CALDESC:Events for 
REFRESH-INTERVAL;VALUE=DURATION:PT1H
X-Robots-Tag:noindex
X-PUBLISHED-TTL:PT1H
BEGIN:VTIMEZONE
TZID:UTC
BEGIN:STANDARD
TZOFFSETFROM:+0000
TZOFFSETTO:+0000
TZNAME:UTC
DTSTART:20220101T000000
END:STANDARD
END:VTIMEZONE
BEGIN:VEVENT
DTSTART;TZID=UTC:20230721T180000
DTEND;TZID=UTC:20230721T200000
DTSTAMP:20260425T182018
CREATED:20230712T222002Z
LAST-MODIFIED:20230712T222002Z
UID:956-1689962400-1689969600@vcrchurch.org
SUMMARY:Men and Boys Night
DESCRIPTION:As time has gone by satan has tried to take out “the head of the home”\, the male.  We must be aware of satan’s tactics in order to avoid falling into his trap.  This group is to help shine light on truth\, remind men to be bold and to be an example for boys growing into men.  We are RAISING THE STANDARD.
URL:https://vcrchurch.org/event/men-and-boys-night/
LOCATION:Victory Celebration Revival Church\, 1000 Colloredo blvd.\, Shelbyville\, TN\, 37160\, United States
END:VEVENT
END:VCALENDAR